BEGIN:VCALENDAR
VERSION:2.0
PRODID:-//Willingdon Catholic Gymkhana - ECPv6.15.20//NONSGML v1.0//EN
CALSCALE:GREGORIAN
METHOD:PUBLISH
X-ORIGINAL-URL:https://wcgym.in
X-WR-CALDESC:Events for Willingdon Catholic Gymkhana
REFRESH-INTERVAL;VALUE=DURATION:PT1H
X-Robots-Tag:noindex
X-PUBLISHED-TTL:PT1H
BEGIN:VTIMEZONE
TZID:Asia/Kolkata
BEGIN:STANDARD
TZOFFSETFROM:+0530
TZOFFSETTO:+0530
TZNAME:IST
DTSTART:20220101T000000
END:STANDARD
END:VTIMEZONE
BEGIN:VEVENT
DTSTART;TZID=Asia/Kolkata:20240928T203000
DTEND;TZID=Asia/Kolkata:20240928T233000
DTSTAMP:20260424T231616
CREATED:20240907T140316Z
LAST-MODIFIED:20240907T140316Z
UID:5750-1727555400-1727566200@wcgym.in
SUMMARY:Checks and Stripes Night Live with Karen and Allan
DESCRIPTION:
URL:https://wcgym.in/event/checks-and-stripes-night-live-with-karen-and-allan/
ATTACH;FMTTYPE=image/jpeg:https://wcgym.in/wp-content/uploads/2024/09/Checks-and-Stripes-Night.jpg
END:VEVENT
BEGIN:VEVENT
DTSTART;TZID=Asia/Kolkata:20240914T200000
DTEND;TZID=Asia/Kolkata:20240914T233000
DTSTAMP:20260424T231616
CREATED:20240907T135954Z
LAST-MODIFIED:20240907T140136Z
UID:5745-1726344000-1726356600@wcgym.in
SUMMARY:Saturday Night Live with Jude Al ft. Nizil
DESCRIPTION:
URL:https://wcgym.in/event/saturday-night-live-2/
ATTACH;FMTTYPE=image/jpeg:https://wcgym.in/wp-content/uploads/2024/09/14-Sep-Jude-Al.jpg
END:VEVENT
BEGIN:VEVENT
DTSTART;TZID=Asia/Kolkata:20240824T203000
DTEND;TZID=Asia/Kolkata:20240824T233000
DTSTAMP:20260424T231616
CREATED:20240722T193551Z
LAST-MODIFIED:20240722T194041Z
UID:5738-1724531400-1724542200@wcgym.in
SUMMARY:Saturday Night Live
DESCRIPTION:
URL:https://wcgym.in/event/saturday-night-live/
ATTACH;FMTTYPE=image/jpeg:https://wcgym.in/wp-content/uploads/2024/07/WCG-24-Aug.jpg
END:VEVENT
BEGIN:VEVENT
DTSTART;TZID=Asia/Kolkata:20240810T203000
DTEND;TZID=Asia/Kolkata:20240810T230000
DTSTAMP:20260424T231616
CREATED:20240722T193433Z
LAST-MODIFIED:20240722T193433Z
UID:5735-1723321800-1723330800@wcgym.in
SUMMARY:Saturday Night Live Ft. Jaffphoria
DESCRIPTION:Freedom Fiesta: Countdown to Independence Day
URL:https://wcgym.in/event/saturday-night-live-ft-jaffphoria/
ATTACH;FMTTYPE=image/jpeg:https://wcgym.in/wp-content/uploads/2024/07/Jaffphoria-WCG.jpg
END:VEVENT
BEGIN:VEVENT
DTSTART;TZID=Asia/Kolkata:20240803T200000
DTEND;TZID=Asia/Kolkata:20240803T223000
DTSTAMP:20260424T231616
CREATED:20240729T063644Z
LAST-MODIFIED:20240729T064442Z
UID:5741-1722715200-1722724200@wcgym.in
SUMMARY:Saturday Night Live ft. The Vandaloos
DESCRIPTION:
URL:https://wcgym.in/event/saturday-night-live-ft-the-vandaloos/
ATTACH;FMTTYPE=image/png:https://wcgym.in/wp-content/uploads/2024/07/3-Aug.png
END:VEVENT
BEGIN:VEVENT
DTSTART;TZID=Asia/Kolkata:20240720T203000
DTEND;TZID=Asia/Kolkata:20240720T233000
DTSTAMP:20260424T231616
CREATED:20240713T070656Z
LAST-MODIFIED:20240713T070701Z
UID:5628-1721507400-1721518200@wcgym.in
SUMMARY:Saturday Night Live ft. Roxy Band
DESCRIPTION:Retro & Classy Rock
URL:https://wcgym.in/event/saturday-night-live-ft-roxy-band/
ATTACH;FMTTYPE=image/jpeg:https://wcgym.in/wp-content/uploads/2024/07/Roxy.jpg
END:VEVENT
BEGIN:VEVENT
DTSTART;TZID=Asia/Kolkata:20240714T120000
DTEND;TZID=Asia/Kolkata:20240714T140000
DTSTAMP:20260424T231616
CREATED:20240713T070305Z
LAST-MODIFIED:20240713T070305Z
UID:5624-1720958400-1720965600@wcgym.in
SUMMARY:Sunday Brunch ft. Willie & Brynhild
DESCRIPTION:
URL:https://wcgym.in/event/sunday-brunch-ft-willie-brynhild/
ATTACH;FMTTYPE=image/jpeg:https://wcgym.in/wp-content/uploads/2024/07/WCG-sunday-brunch-Willie-and-Brynhild-3.jpg
END:VEVENT
BEGIN:VEVENT
DTSTART;TZID=Asia/Kolkata:20240706T200000
DTEND;TZID=Asia/Kolkata:20240706T230000
DTSTAMP:20260424T231616
CREATED:20240713T070110Z
LAST-MODIFIED:20240713T070329Z
UID:5621-1720296000-1720306800@wcgym.in
SUMMARY:Saturday Nigh Live ft. Dr J Collective
DESCRIPTION:
URL:https://wcgym.in/event/dr-j-collective/
ATTACH;FMTTYPE=image/jpeg:https://wcgym.in/wp-content/uploads/2024/07/WCG-Dr-J-Collective.jpg
END:VEVENT
BEGIN:VEVENT
DTSTART;TZID=Asia/Kolkata:20240622T200000
DTEND;TZID=Asia/Kolkata:20240622T233000
DTSTAMP:20260424T231616
CREATED:20240619T165335Z
LAST-MODIFIED:20240619T165457Z
UID:5617-1719086400-1719099000@wcgym.in
SUMMARY:San Jao with Engel and Al
DESCRIPTION:
URL:https://wcgym.in/event/san-jao-with-engel-and-al/
ATTACH;FMTTYPE=image/jpeg:https://wcgym.in/wp-content/uploads/2024/06/WCG-sanjao.jpg
END:VEVENT
BEGIN:VEVENT
DTSTART;TZID=Asia/Kolkata:20240615T203000
DTEND;TZID=Asia/Kolkata:20240615T230000
DTSTAMP:20260424T231616
CREATED:20240605T064934Z
LAST-MODIFIED:20240605T064942Z
UID:5609-1718483400-1718492400@wcgym.in
SUMMARY:Saturday Night Live with Rock It Science
DESCRIPTION:
URL:https://wcgym.in/event/saturday-night-live-with-rock-it-science/
ATTACH;FMTTYPE=image/jpeg:https://wcgym.in/wp-content/uploads/2024/06/Rock-It-Science-wcg.jpg
END:VEVENT
BEGIN:VEVENT
DTSTART;TZID=Asia/Kolkata:20240608T203000
DTEND;TZID=Asia/Kolkata:20240608T230000
DTSTAMP:20260424T231616
CREATED:20240605T064758Z
LAST-MODIFIED:20240605T064821Z
UID:5605-1717878600-1717887600@wcgym.in
SUMMARY:Saturday Night Live with John Blue Ensemble
DESCRIPTION:
URL:https://wcgym.in/event/saturday-night-live-with-john-blue-ensemble/
ATTACH;FMTTYPE=image/jpeg:https://wcgym.in/wp-content/uploads/2024/06/The-John-Blue-Ensemble.jpg
END:VEVENT
BEGIN:VEVENT
DTSTART;TZID=Asia/Kolkata:20240531T203000
DTEND;TZID=Asia/Kolkata:20240531T233000
DTSTAMP:20260424T231616
CREATED:20240508T150753Z
LAST-MODIFIED:20240508T150808Z
UID:5582-1717187400-1717198200@wcgym.in
SUMMARY:Friday Night Live with Jona & Nash
DESCRIPTION:
URL:https://wcgym.in/event/friday-night-live-with-jona-nash/
ATTACH;FMTTYPE=image/jpeg:https://wcgym.in/wp-content/uploads/2024/05/WCG-friday-live.jpg
END:VEVENT
BEGIN:VEVENT
DTSTART;TZID=Asia/Kolkata:20240525T203000
DTEND;TZID=Asia/Kolkata:20240525T233000
DTSTAMP:20260424T231616
CREATED:20240508T151323Z
LAST-MODIFIED:20240508T151419Z
UID:5585-1716669000-1716679800@wcgym.in
SUMMARY:Saturday Night Live with No Strings Attached
DESCRIPTION:
URL:https://wcgym.in/event/saturday-night-live-with-no-strings-attached/
ATTACH;FMTTYPE=image/jpeg:https://wcgym.in/wp-content/uploads/2024/05/WCG-saturday-live.jpg
END:VEVENT
BEGIN:VEVENT
DTSTART;TZID=Asia/Kolkata:20240427T203000
DTEND;TZID=Asia/Kolkata:20240427T233000
DTSTAMP:20260424T231616
CREATED:20240412T101324Z
LAST-MODIFIED:20240412T101324Z
UID:5541-1714249800-1714260600@wcgym.in
SUMMARY:That 70s Show
DESCRIPTION:Performance by The Soul Temple
URL:https://wcgym.in/event/that-70s-show/
ATTACH;FMTTYPE=image/jpeg:https://wcgym.in/wp-content/uploads/2024/04/27-That-70-Shows.jpg
END:VEVENT
BEGIN:VEVENT
DTSTART;TZID=Asia/Kolkata:20240414T100000
DTEND;TZID=Asia/Kolkata:20240424T180000
DTSTAMP:20260424T231616
CREATED:20240412T101719Z
LAST-MODIFIED:20240412T101725Z
UID:5544-1713088800-1713981600@wcgym.in
SUMMARY:43rd Floodlit Rink Hockey Tournament 2024
DESCRIPTION:
URL:https://wcgym.in/event/43rd-floodlit-rink-hockey-tournament-2024/
ATTACH;FMTTYPE=image/jpeg:https://wcgym.in/wp-content/uploads/2024/04/14-Rink-Hockey-Website.jpg
END:VEVENT
BEGIN:VEVENT
DTSTART;TZID=Asia/Kolkata:20240412T203000
DTEND;TZID=Asia/Kolkata:20240412T233000
DTSTAMP:20260424T231616
CREATED:20240412T072609Z
LAST-MODIFIED:20240412T074611Z
UID:5537-1712953800-1712964600@wcgym.in
SUMMARY:Summer Fiesta with Tammy & Roy
DESCRIPTION:
URL:https://wcgym.in/event/summer-fiesta-with-tammy-roy/
ATTACH;FMTTYPE=image/jpeg:https://wcgym.in/wp-content/uploads/2024/04/12-Summer-Fiesta-by-Tammy-Roy.jpg
END:VEVENT
BEGIN:VEVENT
DTSTART;TZID=Asia/Kolkata:20240331T203000
DTEND;TZID=Asia/Kolkata:20240331T233000
DTSTAMP:20260424T231616
CREATED:20240308T174642Z
LAST-MODIFIED:20240308T175014Z
UID:5529-1711917000-1711927800@wcgym.in
SUMMARY:Easter Sunday Brunch
DESCRIPTION:live band Bombay Buzzar
URL:https://wcgym.in/event/easter-sunday-brunch/
ATTACH;FMTTYPE=image/jpeg:https://wcgym.in/wp-content/uploads/2024/03/WCG-bombay-buzzar.jpg
END:VEVENT
BEGIN:VEVENT
DTSTART;TZID=Asia/Kolkata:20240324T190000
DTEND;TZID=Asia/Kolkata:20240324T233000
DTSTAMP:20260424T231616
CREATED:20240310T050056Z
LAST-MODIFIED:20240310T050744Z
UID:5533-1711306800-1711323000@wcgym.in
SUMMARY:The Last 7 Words of Christ
DESCRIPTION:Free Entry
URL:https://wcgym.in/event/the-last-7-words-of-christ/
ATTACH;FMTTYPE=image/png:https://wcgym.in/wp-content/uploads/2024/03/story.png
END:VEVENT
BEGIN:VEVENT
DTSTART;TZID=Asia/Kolkata:20240323T203000
DTEND;TZID=Asia/Kolkata:20240323T233000
DTSTAMP:20260424T231616
CREATED:20240308T174532Z
LAST-MODIFIED:20240308T175412Z
UID:5526-1711225800-1711236600@wcgym.in
SUMMARY:Holi Celebration
DESCRIPTION:live band The Soul Strings
URL:https://wcgym.in/event/holi-celebration/
ATTACH;FMTTYPE=image/jpeg:https://wcgym.in/wp-content/uploads/2024/03/WCG-holi.jpg
END:VEVENT
BEGIN:VEVENT
DTSTART;TZID=Asia/Kolkata:20240309T203000
DTEND;TZID=Asia/Kolkata:20240309T233000
DTSTAMP:20260424T231616
CREATED:20240308T174318Z
LAST-MODIFIED:20240308T175457Z
UID:5523-1710016200-1710027000@wcgym.in
SUMMARY:Women's Day
DESCRIPTION:with Reena & Lindsay
URL:https://wcgym.in/event/womens-day-with-reena-lindsay/
ATTACH;FMTTYPE=image/jpeg:https://wcgym.in/wp-content/uploads/2024/03/womans-day.jpg
END:VEVENT
BEGIN:VEVENT
DTSTART;TZID=Asia/Kolkata:20240213T200000
DTEND;TZID=Asia/Kolkata:20240213T233000
DTSTAMP:20260424T231616
CREATED:20240208T181520Z
LAST-MODIFIED:20240208T181520Z
UID:5511-1707854400-1707867000@wcgym.in
SUMMARY:Valentine's Eve Ball
DESCRIPTION:
URL:https://wcgym.in/event/valentines-eve-ball/
ATTACH;FMTTYPE=image/jpeg:https://wcgym.in/wp-content/uploads/2024/02/valentine-day-reel-wcg.jpg
END:VEVENT
BEGIN:VEVENT
DTSTART;TZID=Asia/Kolkata:20240213T200000
DTEND;TZID=Asia/Kolkata:20240213T233000
DTSTAMP:20260424T231616
CREATED:20240208T181324Z
LAST-MODIFIED:20240208T181555Z
UID:5504-1707854400-1707867000@wcgym.in
SUMMARY:Carnival
DESCRIPTION:
URL:https://wcgym.in/event/carnival/
ATTACH;FMTTYPE=image/jpeg:https://wcgym.in/wp-content/uploads/2024/02/Carnival.jpg
END:VEVENT
BEGIN:VEVENT
DTSTART;TZID=Asia/Kolkata:20240125T203000
DTEND;TZID=Asia/Kolkata:20240125T233000
DTSTAMP:20260424T231616
CREATED:20240121T123608Z
LAST-MODIFIED:20240121T123616Z
UID:5418-1706214600-1706225400@wcgym.in
SUMMARY:Republic Day Celebration
DESCRIPTION:
URL:https://wcgym.in/event/republic-day-celebration/
ATTACH;FMTTYPE=image/jpeg:https://wcgym.in/wp-content/uploads/2024/01/image-3.jpg
END:VEVENT
BEGIN:VEVENT
DTSTART;TZID=Asia/Kolkata:20240120T203000
DTEND;TZID=Asia/Kolkata:20240120T233000
DTSTAMP:20260424T231616
CREATED:20240121T123439Z
LAST-MODIFIED:20240121T123500Z
UID:5415-1705782600-1705793400@wcgym.in
SUMMARY:Saturday night live with Faith 2.0
DESCRIPTION:
URL:https://wcgym.in/event/saturday-night-live-with-faith-2-0/
ATTACH;FMTTYPE=image/jpeg:https://wcgym.in/wp-content/uploads/2024/01/20-Jan.jpg
END:VEVENT
BEGIN:VEVENT
DTSTART;TZID=Asia/Kolkata:20240114T203000
DTEND;TZID=Asia/Kolkata:20240114T233000
DTSTAMP:20260424T231616
CREATED:20240121T123221Z
LAST-MODIFIED:20240121T123255Z
UID:5411-1705264200-1705275000@wcgym.in
SUMMARY:Masters of the scene - The world's leading ABBA tribute live show
DESCRIPTION:Mama Mia\, Dancing Queen and All the Hits of ABBA performed for you on 14th January 2024 at Willingdon Catholic Gymkhana
URL:https://wcgym.in/event/masters-of-the-scene-the-worlds-leading-abba-tribute-live-show/
ATTACH;FMTTYPE=image/jpeg:https://wcgym.in/wp-content/uploads/2024/01/14-ABBA.jpg
END:VEVENT
BEGIN:VEVENT
DTSTART;TZID=Asia/Kolkata:20231231T203000
DTEND;TZID=Asia/Kolkata:20240101T000000
DTSTAMP:20260424T231616
CREATED:20231206T163648Z
LAST-MODIFIED:20240121T121538Z
UID:5275-1704054600-1704067200@wcgym.in
SUMMARY:New Year's Eve Party music by Dr. J Collective
DESCRIPTION:
URL:https://wcgym.in/event/new-years-eve-party-music-by-dr-j-collective/
LOCATION:Tennis Courts
ATTACH;FMTTYPE=image/jpeg:https://wcgym.in/wp-content/uploads/2023/12/31-New-Year.jpg
END:VEVENT
BEGIN:VEVENT
DTSTART;TZID=Asia/Kolkata:20231228T203000
DTEND;TZID=Asia/Kolkata:20231228T233000
DTSTAMP:20260424T231616
CREATED:20231209T172551Z
LAST-MODIFIED:20231209T172551Z
UID:5305-1703795400-1703806200@wcgym.in
SUMMARY:Let's be Friends Music by 2 Gurlz & A Guitar Live
DESCRIPTION:
URL:https://wcgym.in/event/lets-be-friends-music-by-2-gurlz-a-guitar-live/
LOCATION:Tennis Courts
ATTACH;FMTTYPE=image/jpeg:https://wcgym.in/wp-content/uploads/2023/12/28-Lets-be-friends.jpg
END:VEVENT
BEGIN:VEVENT
DTSTART;TZID=Asia/Kolkata:20231225T203000
DTEND;TZID=Asia/Kolkata:20231225T233000
DTSTAMP:20260424T231616
CREATED:20231130T005846Z
LAST-MODIFIED:20240121T122013Z
UID:4730-1703536200-1703547000@wcgym.in
SUMMARY:Christmas Dance music by The Bombay Coalition
DESCRIPTION:
URL:https://wcgym.in/event/christmas-dance-music-by-the-bombay-coalition/
LOCATION:Tennis Courts
ATTACH;FMTTYPE=image/jpeg:https://wcgym.in/wp-content/uploads/2023/11/19-Christmas-1.jpg
END:VEVENT
BEGIN:VEVENT
DTSTART;TZID=Asia/Kolkata:20231223T203000
DTEND;TZID=Asia/Kolkata:20231223T233000
DTSTAMP:20260424T231616
CREATED:20231206T163350Z
LAST-MODIFIED:20240121T122007Z
UID:5272-1703363400-1703374200@wcgym.in
SUMMARY:Yuletide Night music by Jude Al Night ft Nizil live
DESCRIPTION:
URL:https://wcgym.in/event/yuletide-night-music-by-jude-al-night-ft-nizil-live/
LOCATION:The Orchid Hall
ATTACH;FMTTYPE=image/jpeg:https://wcgym.in/wp-content/uploads/2023/12/23-Yuletide-Night.jpg
END:VEVENT
BEGIN:VEVENT
DTSTART;TZID=Asia/Kolkata:20231220T200000
DTEND;TZID=Asia/Kolkata:20231220T233000
DTSTAMP:20260424T231616
CREATED:20231209T172257Z
LAST-MODIFIED:20240121T122001Z
UID:5300-1703102400-1703115000@wcgym.in
SUMMARY:Carol Night
DESCRIPTION:
URL:https://wcgym.in/event/carol-night/
LOCATION:Tennis Courts
ATTACH;FMTTYPE=image/jpeg:https://wcgym.in/wp-content/uploads/2023/12/20-Carol-TN-1.jpg
END:VEVENT
END:VCALENDAR